BEGIN:VCALENDAR
VERSION:2.0
PRODID:-//TEDxTallinn - ECPv6.15.20//NONSGML v1.0//EN
CALSCALE:GREGORIAN
METHOD:PUBLISH
X-WR-CALNAME:TEDxTallinn
X-ORIGINAL-URL:https://tedxtallinn.ee
X-WR-CALDESC:Events for TEDxTallinn
REFRESH-INTERVAL;VALUE=DURATION:PT1H
X-Robots-Tag:noindex
X-PUBLISHED-TTL:PT1H
BEGIN:VTIMEZONE
TZID:Europe/Tallinn
BEGIN:DAYLIGHT
TZOFFSETFROM:+0200
TZOFFSETTO:+0300
TZNAME:EEST
DTSTART:20200329T010000
END:DAYLIGHT
BEGIN:STANDARD
TZOFFSETFROM:+0300
TZOFFSETTO:+0200
TZNAME:EET
DTSTART:20201025T010000
END:STANDARD
BEGIN:DAYLIGHT
TZOFFSETFROM:+0200
TZOFFSETTO:+0300
TZNAME:EEST
DTSTART:20210328T010000
END:DAYLIGHT
BEGIN:STANDARD
TZOFFSETFROM:+0300
TZOFFSETTO:+0200
TZNAME:EET
DTSTART:20211031T010000
END:STANDARD
BEGIN:DAYLIGHT
TZOFFSETFROM:+0200
TZOFFSETTO:+0300
TZNAME:EEST
DTSTART:20220327T010000
END:DAYLIGHT
BEGIN:STANDARD
TZOFFSETFROM:+0300
TZOFFSETTO:+0200
TZNAME:EET
DTSTART:20221030T010000
END:STANDARD
BEGIN:DAYLIGHT
TZOFFSETFROM:+0200
TZOFFSETTO:+0300
TZNAME:EEST
DTSTART:20230326T010000
END:DAYLIGHT
BEGIN:STANDARD
TZOFFSETFROM:+0300
TZOFFSETTO:+0200
TZNAME:EET
DTSTART:20231029T010000
END:STANDARD
BEGIN:DAYLIGHT
TZOFFSETFROM:+0200
TZOFFSETTO:+0300
TZNAME:EEST
DTSTART:20240331T010000
END:DAYLIGHT
BEGIN:STANDARD
TZOFFSETFROM:+0300
TZOFFSETTO:+0200
TZNAME:EET
DTSTART:20241027T010000
END:STANDARD
END:VTIMEZONE
BEGIN:VTIMEZONE
TZID:Europe/Helsinki
BEGIN:DAYLIGHT
TZOFFSETFROM:+0200
TZOFFSETTO:+0300
TZNAME:EEST
DTSTART:20200329T010000
END:DAYLIGHT
BEGIN:STANDARD
TZOFFSETFROM:+0300
TZOFFSETTO:+0200
TZNAME:EET
DTSTART:20201025T010000
END:STANDARD
BEGIN:DAYLIGHT
TZOFFSETFROM:+0200
TZOFFSETTO:+0300
TZNAME:EEST
DTSTART:20210328T010000
END:DAYLIGHT
BEGIN:STANDARD
TZOFFSETFROM:+0300
TZOFFSETTO:+0200
TZNAME:EET
DTSTART:20211031T010000
END:STANDARD
BEGIN:DAYLIGHT
TZOFFSETFROM:+0200
TZOFFSETTO:+0300
TZNAME:EEST
DTSTART:20220327T010000
END:DAYLIGHT
BEGIN:STANDARD
TZOFFSETFROM:+0300
TZOFFSETTO:+0200
TZNAME:EET
DTSTART:20221030T010000
END:STANDARD
END:VTIMEZONE
BEGIN:VEVENT
DTSTART;VALUE=DATE:20231014
DTEND;VALUE=DATE:20231015
DTSTAMP:20260424T141807
CREATED:20230602T013156Z
LAST-MODIFIED:20230602T013156Z
UID:7910-1697241600-1697327999@tedxtallinn.ee
SUMMARY:TEDxTallinn 2023 – Säilenõtkus
DESCRIPTION:
URL:https://tedxtallinn.ee/event/tedxtallinn-2023-sailenotkus/
LOCATION:Tallinn\, Eesti
CATEGORIES:TEDxTallinn
ATTACH;FMTTYPE=image/png:https://tedxtallinn.ee/wp-content/uploads/2021/02/tedxtallinn-logo.png
END:VEVENT
BEGIN:VEVENT
DTSTART;VALUE=DATE:20211009
DTEND;VALUE=DATE:20211010
DTSTAMP:20260424T141807
CREATED:20210511T160352Z
LAST-MODIFIED:20210511T160411Z
UID:4737-1633737600-1633823999@tedxtallinn.ee
SUMMARY:TEDxTallinn 2021 – Tajunihe
DESCRIPTION:
URL:https://tedxtallinn.ee/event/tedxtallinn-2021-tajunihe/
LOCATION:Tallinn\, Eesti
CATEGORIES:TEDxTallinn
ATTACH;FMTTYPE=image/png:https://tedxtallinn.ee/wp-content/uploads/2021/02/tedxtallinn-logo.png
END:VEVENT
BEGIN:VEVENT
DTSTART;TZID=Europe/Helsinki:20210323T170000
DTEND;TZID=Europe/Helsinki:20210323T190000
DTSTAMP:20260424T141807
CREATED:20191023T013846Z
LAST-MODIFIED:20210227T232809Z
UID:102-1616518800-1616526000@tedxtallinn.ee
SUMMARY:TEDxTallinnSalon – MÄRKA ME
DESCRIPTION:
URL:https://tedxtallinn.ee/event/tedxtallinsalon-marka-me/
LOCATION:Tallinn\, Eesti
ATTACH;FMTTYPE=image/png:https://tedxtallinn.ee/wp-content/uploads/2021/02/tedxtallinn-logo.png
ORGANIZER;CN="TEDxTallinn":MAILTO:tedxtallinn@gmail.com
END:VEVENT
END:VCALENDAR